BEGIN:VCALENDAR
VERSION:2.0
PRODID:-//Jingles - ECPv6.15.19//NONSGML v1.0//EN
CALSCALE:GREGORIAN
METHOD:PUBLISH
X-WR-CALNAME:Jingles
X-ORIGINAL-URL:http://www.jinglesbaitandtackle.com
X-WR-CALDESC:Events for Jingles
REFRESH-INTERVAL;VALUE=DURATION:PT1H
X-Robots-Tag:noindex
X-PUBLISHED-TTL:PT1H
BEGIN:VTIMEZONE
TZID:America/New_York
BEGIN:DAYLIGHT
TZOFFSETFROM:-0500
TZOFFSETTO:-0400
TZNAME:EDT
DTSTART:20170312T070000
END:DAYLIGHT
BEGIN:STANDARD
TZOFFSETFROM:-0400
TZOFFSETTO:-0500
TZNAME:EST
DTSTART:20171105T060000
END:STANDARD
BEGIN:DAYLIGHT
TZOFFSETFROM:-0500
TZOFFSETTO:-0400
TZNAME:EDT
DTSTART:20180311T070000
END:DAYLIGHT
BEGIN:STANDARD
TZOFFSETFROM:-0400
TZOFFSETTO:-0500
TZNAME:EST
DTSTART:20181104T060000
END:STANDARD
BEGIN:DAYLIGHT
TZOFFSETFROM:-0500
TZOFFSETTO:-0400
TZNAME:EDT
DTSTART:20190310T070000
END:DAYLIGHT
BEGIN:STANDARD
TZOFFSETFROM:-0400
TZOFFSETTO:-0500
TZNAME:EST
DTSTART:20191103T060000
END:STANDARD
END:VTIMEZONE
BEGIN:VEVENT
DTSTART;VALUE=DATE:20180725
DTEND;VALUE=DATE:20180729
DTSTAMP:20260420T021230
CREATED:20180614T104927Z
LAST-MODIFIED:20180721T203812Z
UID:1229-1532476800-1532822399@www.jinglesbaitandtackle.com
SUMMARY:BHMTC White Marlin Invitational Tournament
DESCRIPTION:White Marlin Invitational Tournament
URL:http://www.jinglesbaitandtackle.com/event/bhmtc-white-marlin-invitational-tournament/
LOCATION:Beach Haven Marlin & Tuna Club\, 420 N Pennsylvania Ave\, Beach Haven\, NJ\, 08008
END:VEVENT
BEGIN:VEVENT
DTSTART;VALUE=DATE:20180712
DTEND;VALUE=DATE:20180713
DTSTAMP:20260420T021230
CREATED:20180614T104808Z
LAST-MODIFIED:20180614T104808Z
UID:1227-1531353600-1531439999@www.jinglesbaitandtackle.com
SUMMARY:BHMTC 1st Offshore Tournament/ War at the Shore
DESCRIPTION:1st Offshore Tournament/ War at the Shore
URL:http://www.jinglesbaitandtackle.com/event/bhmtc-1st-offshore-tournament-war-at-the-shore/
LOCATION:Beach Haven Marlin & Tuna Club\, 420 N Pennsylvania Ave\, Beach Haven\, NJ\, 08008
END:VEVENT
BEGIN:VEVENT
DTSTART;TZID=America/New_York:20180625T090000
DTEND;TZID=America/New_York:20180625T100000
DTSTAMP:20260420T021230
CREATED:20180616T224335Z
LAST-MODIFIED:20180616T224335Z
UID:1258-1529917200-1529920800@www.jinglesbaitandtackle.com
SUMMARY:Fishing with Jingles - Fishing Clinic
DESCRIPTION:“Fishing with Jingles” – Monday mornings at 9AM – First clinic Monday\, June 25\, 2018. \n$30 – Includes: \n\nInstruction on casting and reeling\nA combo (rod & reel – either a 4’6″ Tomahawk\, 5′ Eagle Claw or 5’6″ Amphibian)\n1 Rig and 1 sinker\n1 tackle box\n\nAdults too are welcome.  Instead of one of the mentioned combos\, adults can get a $10 credit towards another Combo. \nMaximum 10 anglers per clinic – call the store to reserve a spot – 609-492-2795. \n 
URL:http://www.jinglesbaitandtackle.com/event/fishing-with-jingles-fishing-clinic/
LOCATION:Jingles Bait & Tackle\, 1214 N. Bay Avenue\, Beach Haven\, NJ\, 08008
END:VEVENT
BEGIN:VEVENT
DTSTART;VALUE=DATE:20180623
DTEND;VALUE=DATE:20180624
DTSTAMP:20260420T021230
CREATED:20180614T104612Z
LAST-MODIFIED:20180614T104612Z
UID:1223-1529712000-1529798399@www.jinglesbaitandtackle.com
SUMMARY:BHMTC Inshore Bay Tournament
DESCRIPTION:Inshore Bay Tournament
URL:http://www.jinglesbaitandtackle.com/event/bhmtc-inshore-bay-tournament/
LOCATION:Beach Haven Marlin & Tuna Club\, 420 N Pennsylvania Ave\, Beach Haven\, NJ\, 08008
END:VEVENT
BEGIN:VEVENT
DTSTART;VALUE=DATE:20180616
DTEND;VALUE=DATE:20180617
DTSTAMP:20260420T021230
CREATED:20180614T102516Z
LAST-MODIFIED:20180614T102651Z
UID:1216-1529107200-1529193599@www.jinglesbaitandtackle.com
SUMMARY:BHMTC Mako Shark & Tuna Tournament
DESCRIPTION:Mako Shark & Tuna Tournament
URL:http://www.jinglesbaitandtackle.com/event/bhmtc-mako-shark-tuna-tournament/
LOCATION:Beach Haven Marlin & Tuna Club\, 420 N Pennsylvania Ave\, Beach Haven\, NJ\, 08008
END:VEVENT
BEGIN:VEVENT
DTSTART;TZID=America/New_York:20180609T030000
DTEND;TZID=America/New_York:20180609T150000
DTSTAMP:20260420T021230
CREATED:20180424T193125Z
LAST-MODIFIED:20180424T193931Z
UID:761-1528513200-1528556400@www.jinglesbaitandtackle.com
SUMMARY:11th Annual High Point All-Boat Tournament and Fish Fry
DESCRIPTION:TOURNAMENT INFORMATION\nLocated at High Point Vol. Fire Co.\nWest 80th Street\, Harvey Cedars \nTemporary Dock Use\nProvided at West 78th Street\nPublic Dock in Harvey Cedars\nShuttle Provided from Dock to Firehouse\nHail VHF Channel 69 \n\n\n\n\n\n\nSCHEDULE OF EVENTS\nFriday\, June 8th\nCaptain’s Meeting 7:00pm\nHigh Point Vol. Fire Company\nWest 80th Street in Harvey Cedars \nSaturday\, June 9th\nFishing Begins at 3:00am Sat.\nFishing Ends at 3:00pm Sat.\n2:00pm – 5:00pm Official Weigh-in at HPVFC\n2:00pm Fish Fry Open to the public\,\nAnglers\, Friends & Family\nAdults-$30.00\nChildren(12 and under)-$10.00\n6:00pm Awards Ceremony \nAwards Ceremony Includes:\nSpecial Drawings\n50/50 Cash Prizes\nSilent Auction\nPresentation of Awards\nLive Entertainment \nFEES\nEntry Fee $150 per boat for two anglers\n$50 each additional angler\nMaximum of 6 anglers (including Captain)\n(Includes T-shirt for each registered angler) \n* Prizes are based on 25 boats entering.\nIf less\, enter\, prizes will be adjusted accordingly.
URL:http://www.jinglesbaitandtackle.com/event/11th-annual-high-point-all-boat-tournament-and-fish-fry/
LOCATION:NJ
END:VEVENT
BEGIN:VEVENT
DTSTART;TZID=America/New_York:20180602T050000
DTEND;TZID=America/New_York:20180602T180000
DTSTAMP:20260420T021230
CREATED:20180424T192525Z
LAST-MODIFIED:20180424T192525Z
UID:759-1527915600-1527962400@www.jinglesbaitandtackle.com
SUMMARY:6th Annual RFA Bass River Summer Flounder Tournament
DESCRIPTION:6th Annual Bass River Classic \nSaturday\, June 2nd\, 2018 (Rain date\, June 3rd\, 2018) \nPresented by Viking Yachting Center & Breezes Bar & Grill on the Bass River\, 5724 N. Route 9\, New Gretna\, NJ. \nFor information call:  888-564-6732
URL:http://www.jinglesbaitandtackle.com/event/6th-annual-rfa-bass-river-summer-flounder-tournament/
LOCATION:NJ
END:VEVENT
BEGIN:VEVENT
DTSTART;VALUE=DATE:20180530
DTEND;VALUE=DATE:20180923
DTSTAMP:20260420T021230
CREATED:20180530T122516Z
LAST-MODIFIED:20180530T122516Z
UID:1100-1527638400-1537660799@www.jinglesbaitandtackle.com
SUMMARY:Jingles In-Store Fluke Tournament
DESCRIPTION:$10 Entry Fee\n2 Sessions:  First Session:  Now through July 31st.   Second Session:  August 1st through Sept 22nd. \nWinnings:  First place 75% of pool.  Second place 25% of pool. \nWinning fish will be based on weight – tie breaker based on length.
URL:http://www.jinglesbaitandtackle.com/event/jingles-in-store-fluke-tournament/
LOCATION:Jingles Bait & Tackle\, 1214 N. Bay Avenue\, Beach Haven\, NJ\, 08008
END:VEVENT
BEGIN:VEVENT
DTSTART;VALUE=DATE:20180526
DTEND;VALUE=DATE:20180527
DTSTAMP:20260420T021230
CREATED:20180514T135211Z
LAST-MODIFIED:20180514T135211Z
UID:907-1527292800-1527379199@www.jinglesbaitandtackle.com
SUMMARY:14th Annual LBI Cup Striped Bass Tournament
DESCRIPTION:LBI Cup Invitational Tournament\n​Saturday\, May 26\, 2018\n\nIn Person Registration – Friday\, May 25 at 6:00PM \nCaptain’s Meeting – Friday\, May 25 at 7:00PM \nWeigh Ins & Awards Dinner – Saturday\, May 26th \n$200 per boat for all applicants through May 21\, 2018. $250 per boat for all applicants after May 21\, 2018. \nAll entries must be in by 9 PM sharp\, May 25th at the Captain’s meeting\, which will be held at the BHM&TC clubhouse (next to Morrison’s Marina at the end of Pennsylvania Avenue). \nAll registered anglers are welcome to join us for weigh ins and awards.
URL:http://www.jinglesbaitandtackle.com/event/14th-annual-lbi-cup-striped-bass-tournament/
LOCATION:Beach Haven Marlin & Tuna Club\, 420 N Pennsylvania Ave\, Beach Haven\, NJ\, 08008
ORGANIZER;CN="Andres Hernandez":MAILTO:andreshb22@me.com
END:VEVENT
BEGIN:VEVENT
DTSTART;TZID=America/New_York:20180520T063000
DTEND;TZID=America/New_York:20180520T130000
DTSTAMP:20260420T021230
CREATED:20180424T191505Z
LAST-MODIFIED:20180424T191505Z
UID:756-1526797800-1526821200@www.jinglesbaitandtackle.com
SUMMARY:Governor's Surf Fishing Tournament
DESCRIPTION:Governor’s Surf Fishing Tournament\nSunday\, May 20\, 2018\n 
URL:http://www.jinglesbaitandtackle.com/event/governors-surf-fishing-tournament/
LOCATION:Island Beach State Park\, Seaside Park\, NJ\, 08752
END:VEVENT
BEGIN:VEVENT
DTSTART;VALUE=DATE:20180518
DTEND;VALUE=DATE:20180521
DTSTAMP:20260420T021230
CREATED:20180514T164853Z
LAST-MODIFIED:20180514T164912Z
UID:912-1526601600-1526860799@www.jinglesbaitandtackle.com
SUMMARY:1st Annual Waretown Striped Bass Tournament
DESCRIPTION:1st Annual Waretown Striped Bass Tournament\nSponsored by New Level \nMay 18\,19\,20 with Door Prizes\, Cash Bar and Food \nRegister at the Captain’s Meeting May 18th at 7pm \nAll proceeds will benefit the Waretown Fire Company
URL:http://www.jinglesbaitandtackle.com/event/1st-annual-waretown-striped-bass-tournament/
LOCATION:Waretown Firehouse\, 117 Wells Mills Road\, Waretown\, NJ
END:VEVENT
BEGIN:VEVENT
DTSTART;TZID=America/New_York:20180505T100000
DTEND;TZID=America/New_York:20180505T130000
DTSTAMP:20260420T021230
CREATED:20180424T205221Z
LAST-MODIFIED:20180424T205221Z
UID:764-1525514400-1525525200@www.jinglesbaitandtackle.com
SUMMARY:Spray Beach Yacht Club Open House
DESCRIPTION:Come to our open house with your family – take a tour.  Light refreshments served. \nMake new friends.  Enjoy boating\, sailing\, fishing\, kayaking\, luncheons\, dinners\, cocktail parties\, dancing\, crabbing\, golf\, book clubs\, swimming\, paddle boarding\, cycling\, cards\, children’s programs\, family nights and more
URL:http://www.jinglesbaitandtackle.com/event/spray-beach-yacht-club-open-house/
LOCATION:Spray Beach Yacht Club\, 23rd & Bay Ave\, Spray Beach\, NJ\, 08008
END:VEVENT
BEGIN:VEVENT
DTSTART;TZID=America/New_York:20180501T170000
DTEND;TZID=America/New_York:20180501T210000
DTSTAMP:20260420T021230
CREATED:20180427T135422Z
LAST-MODIFIED:20180427T135422Z
UID:784-1525194000-1525208400@www.jinglesbaitandtackle.com
SUMMARY:Basic Boat Safety Course
DESCRIPTION:Basic Boating Safety Courses – NJ Certified\nAges: 13 & up $85 Member & Non-Member\nThe NJ State Police Certification Course for Basic Boating Safety will consist of a total of 8 hours of lecture and video with homework and test. This class will prepare and certify you to operate a motor boat or a personal water craft vessel in NJ. Certified operators ages 13-15 may operate vessels with up to a 1 hp motor. However\, if the vessel is over 12 feet long\, then motor may be up to 9.9 hp. Certified operators ages 16 and older may operate any motor boat or personal watercraft. Workbooks will be provided. (Max: 30 Min: 10)\nInstructor: Keith Gunsten\, Seaspray Services. Tuesday & Thursday; 5:00 – 9:00 PM; Place: Multi-Purpose\nRoom\nSession I:\n(Code 313101-01)\nMay 1 & May 3 (must attend both dates) \nSession II:\n(Code 313101-02)\nJune5&June7 (must attend both dates) \nFor more information call 609-494-8861
URL:http://www.jinglesbaitandtackle.com/event/basic-boat-safety-course/
LOCATION:St. Francis Community Center\, 4700 Long Beach Blvd.\, Long Beach Township\, NJ\, 08008
END:VEVENT
BEGIN:VEVENT
DTSTART;VALUE=DATE:20180428
DTEND;VALUE=DATE:20180429
DTSTAMP:20260420T021230
CREATED:20180406T131753Z
LAST-MODIFIED:20180406T131753Z
UID:701-1524873600-1524959999@www.jinglesbaitandtackle.com
SUMMARY:2nd Annual Nicole Born - RH Custom Surf Fishing Tournament
DESCRIPTION:The 2nd Annual Nicole Born – RH Custom Surf Fishing Tournament on April 28th on the beaches of L.B.I..  \nYou can have fishing teams (up to 6 anglers) or go in as an individual.  Nearly $10\,000.00 in prizes to be awarded and won. Team registration fee of $65.00\, you get a full team of anglers in to participate\, includes warm lunch and 4×4 access with paid registration. $25.00 for Individuals and they get the same.  ALL kids registered walk away with prizes\, courtesy of Tsunami and more.  There is a late fee after April 14th.\n \nQuestions or to obtain an application\, contact Rich Hedenberg at 609-705-8500 or  Sales@rhcustomrods.com.\nSee more at https://www.facebook.com/NBsurffishingtournament/
URL:http://www.jinglesbaitandtackle.com/event/2nd-annual-nicole-born-rh-custom-surf-fishing-tournament/
LOCATION:NJ
ORGANIZER;CN="Rich Hedenburg":MAILTO:Sales@rhcustomrods.com
END:VEVENT
BEGIN:VEVENT
DTSTART;VALUE=DATE:20180424
DTEND;VALUE=DATE:20180625
DTSTAMP:20260420T021230
CREATED:20180530T121811Z
LAST-MODIFIED:20180530T122643Z
UID:1097-1524528000-1529884799@www.jinglesbaitandtackle.com
SUMMARY:Jingles In-Store Surf Fishing Bass Tournament
DESCRIPTION:$10 Entry.  Biggest Bass – Winner takes all!\nWinning based on Weight.  Tie breaker – length\, then girth
URL:http://www.jinglesbaitandtackle.com/event/jingles-in-store-surf-fishing-bass-tournament/
LOCATION:Jingles Bait & Tackle\, 1214 N. Bay Avenue\, Beach Haven\, NJ\, 08008
END:VEVENT
BEGIN:VEVENT
DTSTART;VALUE=DATE:20180421
DTEND;VALUE=DATE:20180625
DTSTAMP:20260420T021230
CREATED:20180331T035026Z
LAST-MODIFIED:20180331T035026Z
UID:689-1524268800-1529884799@www.jinglesbaitandtackle.com
SUMMARY:LBI Spring Surf Fishing Derby
DESCRIPTION:This nine-week striped bass and bluefish tournament reaches its 17th year with some new changes to offer anglers an even better event. This low kill tournament format awards the top fish/anglers by weight. Be sure to read the updated rules and prizes. \nRegister and weigh-in at our store.
URL:http://www.jinglesbaitandtackle.com/event/lbi-spring-surf-fishing-derby/
LOCATION:NJ
END:VEVENT
BEGIN:VEVENT
DTSTART;TZID=America/New_York:20180329T120000
DTEND;TZID=America/New_York:20180329T180000
DTSTAMP:20260420T021230
CREATED:20180321T161213Z
LAST-MODIFIED:20180321T161633Z
UID:649-1522324800-1522346400@www.jinglesbaitandtackle.com
SUMMARY:Store Opening
DESCRIPTION:Opening for the 2018 season.
URL:http://www.jinglesbaitandtackle.com/event/test-event/
LOCATION:NJ
END:VEVENT
END:VCALENDAR